BEGIN:VCALENDAR
VERSION:2.0
CALSCALE:GREGORIAN
PRODID:-//Diputació de Barcelona//DibaCMS//EN
BEGIN:VEVENT
UID:22754
DTSTAMP:20260423T070215
DTSTART:20240510T200000
DTEND:20240510T200000
SUMMARY:Teatre: "Assassinat al club" d'Impro Barcelona
LOCATION:Av. de Pau Casals, 16 08755 Castellbisbal
METHOD:PUBLISH
X-WR-CALNAME:comunicacio@castellbisbal.cat
X-WR-TIMEZONE:Europe/Madrid
DESCRIPTION:A les 20.00 hores, a l'Auditori d'Els Costals.

URI:https://www.castellbisbal.cat/actualitat/agenda/teatre-assassinat-al-club-dimpro-barcelona.html
CLASS:PUBLIC
END:VEVENT
END:VCALENDAR
