BEGIN:VCALENDAR
VERSION:2.0
CALSCALE:GREGORIAN
PRODID:-//Diputació de Barcelona//DibaCMS//EN
BEGIN:VEVENT
UID:22756
DTSTAMP:20260424T142736
DTSTART:20240601T183000
DTEND:20240601T183000
SUMMARY:Teatre: Mostra de final de curs de l'escola Bramart
LOCATION:Av. de Pau Casals, 16 08755 Castellbisbal
METHOD:PUBLISH
X-WR-CALNAME:comunicacio@castellbisbal.cat
X-WR-TIMEZONE:Europe/Madrid
DESCRIPTION:A les 18.30 hores, a l'Auditori d'Els Costals.

URI:https://www.castellbisbal.cat/actualitat/agenda/teatre-mostra-de-final-de-curs-de-lescola-bramart.html
CLASS:PUBLIC
END:VEVENT
END:VCALENDAR
