BEGIN:VCALENDAR
VERSION:2.0
CALSCALE:GREGORIAN
PRODID:-//Diputació de Barcelona//DibaCMS//EN
BEGIN:VEVENT
UID:22760
DTSTAMP:20260425T022610
DTSTART:20240531T203000
DTEND:20240531T203000
SUMMARY:Música: Solistes en concert
LOCATION:Plaça de l'Esglèsia, 2 08755 Castellbisbal
METHOD:PUBLISH
X-WR-CALNAME:comunicacio@castellbisbal.cat
X-WR-TIMEZONE:Europe/Madrid
DESCRIPTION:A les 20.30 hores, a l'Escola Municipal de Música Miquel Blanch.

URI:https://www.castellbisbal.cat/actualitat/agenda/musica-solistes-en-concert.html
CLASS:PUBLIC
END:VEVENT
END:VCALENDAR
