BEGIN:VCALENDAR
VERSION:2.0
CALSCALE:GREGORIAN
PRODID:-//Diputació de Barcelona//DibaCMS//EN
BEGIN:VEVENT
UID:22764
DTSTAMP:20260423T032010
DTSTART:20240919T190000
DTEND:20241020T200000
SUMMARY:Festival NYS: "El retorn: entre l'esperança i la devastació"
LOCATION:Av. de Pau Casals, 16 08755 Castellbisbal
METHOD:PUBLISH
X-WR-CALNAME:comunicacio@castellbisbal.cat
X-WR-TIMEZONE:Europe/Madrid
DESCRIPTION:Del 19 de setembre al 20 d'octubre, a la Sala d'exposicions d'Els Costals.

URI:https://www.castellbisbal.cat/actualitat/agenda/festival-nys-el-retorn-entre-lesperanca-i-la-devastacio.html
CLASS:PUBLIC
END:VEVENT
END:VCALENDAR
