BEGIN:VCALENDAR
VERSION:2.0
CALSCALE:GREGORIAN
PRODID:-//Diputació de Barcelona//DibaCMS//EN
BEGIN:VEVENT
UID:22766
DTSTAMP:20260425T040343
DTSTART:20240314T081500
DTEND:20240314T081500
SUMMARY:Cicle de passejades de gent gran: Sant Fruitós del Bages
LOCATION:Av. de Pau Casals 9 08755 Castellbisbal
METHOD:PUBLISH
X-WR-CALNAME:comunicacio@castellbisbal.cat
X-WR-TIMEZONE:Europe/Madrid
DESCRIPTION:A les 8.15 hores, a l'Ajuntament de Castellbisbal.

URI:https://www.castellbisbal.cat/actualitat/agenda/cicle-de-passejades-de-gent-gran-sant-fruitos-del-bages.html
CLASS:PUBLIC
END:VEVENT
END:VCALENDAR
