BEGIN:VCALENDAR
VERSION:2.0
CALSCALE:GREGORIAN
PRODID:-//Diputació de Barcelona//DibaCMS//EN
BEGIN:VEVENT
UID:22768
DTSTAMP:20260425T021815
DTSTART:20240319T173000
DTEND:20240319T173000
SUMMARY:Trobada virtual: L'infant té dret a estar bé
LOCATION:Format virtual, plataforma Zoom. 
METHOD:PUBLISH
X-WR-CALNAME:comunicacio@castellbisbal.cat
X-WR-TIMEZONE:Europe/Madrid
DESCRIPTION:De 17.30 a 19.30 hores, per Zoom.

URI:https://www.castellbisbal.cat/actualitat/agenda/trobada-virtual-linfant-te-dret-a-estar-be.html
CLASS:PUBLIC
END:VEVENT
END:VCALENDAR
