BEGIN:VCALENDAR
VERSION:2.0
CALSCALE:GREGORIAN
PRODID:-//Diputació de Barcelona//DibaCMS//EN
BEGIN:VEVENT
UID:22769
DTSTAMP:20260423T045639
DTSTART:20240427T073000
DTEND:20240427T073000
SUMMARY:Sardinada a Can Beri 
LOCATION:Can Beri. 
METHOD:PUBLISH
X-WR-CALNAME:comunicacio@castellbisbal.cat
X-WR-TIMEZONE:Europe/Madrid
DESCRIPTION:A les 7.30 hores, a Can Beri.

URI:https://www.castellbisbal.cat/actualitat/agenda/sardinada-a-can-beri-.html
CLASS:PUBLIC
END:VEVENT
END:VCALENDAR
