BEGIN:VCALENDAR
VERSION:2.0
CALSCALE:GREGORIAN
PRODID:-//Diputació de Barcelona//DibaCMS//EN
BEGIN:VEVENT
UID:22770
DTSTAMP:20260423T025911
DTSTART:20240612T190000
DTEND:20240705T200000
SUMMARY:Exposició col·lectiva
LOCATION:Av. de Pau Casals, 16 08755 Castellbisbal
METHOD:PUBLISH
X-WR-CALNAME:comunicacio@castellbisbal.cat
X-WR-TIMEZONE:Europe/Madrid
DESCRIPTION:De dilluns a divendres de 17.00 a 20.00 hores, a la Sala d'Exposicions d'Els Costals.

URI:https://www.castellbisbal.cat/actualitat/agenda/exposicio-collectiva.html
CLASS:PUBLIC
END:VEVENT
END:VCALENDAR
