BEGIN:VCALENDAR
VERSION:2.0
CALSCALE:GREGORIAN
PRODID:-//Diputació de Barcelona//DibaCMS//EN
BEGIN:VEVENT
UID:22774
DTSTAMP:20260423T112926
DTSTART:20240312T160000
DTEND:20240312T160000
SUMMARY:Onzena campanya de donació de sang
LOCATION:C. Major, 109 08755 Castellbisbal
METHOD:PUBLISH
X-WR-CALNAME:comunicacio@castellbisbal.cat
X-WR-TIMEZONE:Europe/Madrid
DESCRIPTION:De 16.00 a 20.00 hores, a l'Institut Les Vinyes.

URI:https://www.castellbisbal.cat/actualitat/agenda/onzena-campanya-de-donacio-de-sang.html
CLASS:PUBLIC
END:VEVENT
END:VCALENDAR
