BEGIN:VCALENDAR
VERSION:2.0
CALSCALE:GREGORIAN
PRODID:-//Diputació de Barcelona//DibaCMS//EN
BEGIN:VEVENT
UID:22780
DTSTAMP:20260423T113652
DTSTART:20240409T090000
DTEND:20240409T090000
SUMMARY:Inscripcions: Visita i dinar a la Tarragona romana
LOCATION:Avinguda de Pau Casals, 9 08755 Castellbisbal
METHOD:PUBLISH
X-WR-CALNAME:comunicacio@castellbisbal.cat
X-WR-TIMEZONE:Europe/Madrid
DESCRIPTION:De 9.00 a 14.00 hores i de 16.00 a 20.00 hores, a la Sala de Plens de l'Ajuntament.

URI:https://www.castellbisbal.cat/actualitat/agenda/22780-inscripcions-visita-i-dinar-a-la-tarragona-romana.html
CLASS:PUBLIC
END:VEVENT
END:VCALENDAR
