BEGIN:VCALENDAR
VERSION:2.0
CALSCALE:GREGORIAN
PRODID:-//Diputació de Barcelona//DibaCMS//EN
BEGIN:VEVENT
UID:22789
DTSTAMP:20260423T064420
DTSTART:20240413T093000
DTEND:20240413T093000
SUMMARY:Visita i dinar a la Tarragona romana
LOCATION:Avinguda Gaudí 08755 Castellbisbal
METHOD:PUBLISH
X-WR-CALNAME:comunicacio@castellbisbal.cat
X-WR-TIMEZONE:Europe/Madrid
DESCRIPTION:ACTIVITAT AJORNADA AL 13 D'ABRIL

URI:https://www.castellbisbal.cat/actualitat/agenda/22789-visita-i-dinar-a-la-tarragona-romana.html
CLASS:PUBLIC
END:VEVENT
END:VCALENDAR
