BEGIN:VCALENDAR
VERSION:2.0
CALSCALE:GREGORIAN
PRODID:-//Diputació de Barcelona//DibaCMS//EN
BEGIN:VEVENT
UID:22823
DTSTAMP:20260423T222517
DTSTART:20240414T070000
DTEND:20240414T070000
SUMMARY:11a travessa diürna: Montserrat a peu
LOCATION:08755 Castellbisbal
METHOD:PUBLISH
X-WR-CALNAME:comunicacio@castellbisbal.cat
X-WR-TIMEZONE:Europe/Madrid
DESCRIPTION:De 7.00 a 17.30 hores, a la Plaça de l'Església.

URI:https://www.castellbisbal.cat/actualitat/agenda/11a-travessa-diurna-montserrat-a-peu.html
CLASS:PUBLIC
END:VEVENT
END:VCALENDAR
