BEGIN:VCALENDAR
VERSION:2.0
CALSCALE:GREGORIAN
PRODID:-//Diputació de Barcelona//DibaCMS//EN
BEGIN:VEVENT
UID:22828
DTSTAMP:20260424T234455
DTSTART:20240603T090000
DTEND:20240603T090000
SUMMARY:Formació: Vetllador/a Escolar
LOCATION:
METHOD:PUBLISH
X-WR-CALNAME:comunicacio@castellbisbal.cat
X-WR-TIMEZONE:Europe/Madrid
DESCRIPTION:Del 3 al 12 de juny, Sala Caterina Albert (Edifici Els Costals, davant de la Biblioteca Municipal).

URI:https://www.castellbisbal.cat/actualitat/agenda/formacio-vetlladora-escolar.html
CLASS:PUBLIC
END:VEVENT
END:VCALENDAR
