BEGIN:VCALENDAR
VERSION:2.0
CALSCALE:GREGORIAN
PRODID:-//Diputació de Barcelona//DibaCMS//EN
BEGIN:VEVENT
UID:22831
DTSTAMP:20260423T093042
DTSTART:20240411T173000
DTEND:20240411T173000
SUMMARY:Trobada virtual: Educació i comunicació
LOCATION:Format virtual, plataforma Zoom. 
METHOD:PUBLISH
X-WR-CALNAME:comunicacio@castellbisbal.cat
X-WR-TIMEZONE:Europe/Madrid
DESCRIPTION:De 17.30 a 19.30 hores, per Zoom.

URI:https://www.castellbisbal.cat/actualitat/agenda/trobada-virtual-educacio-i-comunicacio.html
CLASS:PUBLIC
END:VEVENT
END:VCALENDAR
