BEGIN:VCALENDAR
VERSION:2.0
CALSCALE:GREGORIAN
PRODID:-//Diputació de Barcelona//DibaCMS//EN
BEGIN:VEVENT
UID:22834
DTSTAMP:20260423T143416
DTSTART:20240603T133000
DTEND:20240603T133000
SUMMARY:Formació: 15 coses que les persones autònomes han de saber i ningú els hi explica
LOCATION:Avinguda de Pau Casals, 9 08755 Castellbisbal
METHOD:PUBLISH
X-WR-CALNAME:comunicacio@castellbisbal.cat
X-WR-TIMEZONE:Europe/Madrid
DESCRIPTION:De 13.30 a 16.30 hores, a la Sala de Plens de l'Ajuntament de Castellbisbal.

URI:https://www.castellbisbal.cat/actualitat/agenda/formacio-15-coses-que-les-persones-autonomes-han-de-saber-i-ningu-els-hi-explica.html
CLASS:PUBLIC
END:VEVENT
END:VCALENDAR
