BEGIN:VCALENDAR
VERSION:2.0
CALSCALE:GREGORIAN
PRODID:-//Diputació de Barcelona//DibaCMS//EN
BEGIN:VEVENT
UID:22838
DTSTAMP:20260424T134015
DTSTART:20240324T183000
DTEND:20240324T183000
SUMMARY:Ballada de Sardanes
LOCATION:08755 Castellbisbal
METHOD:PUBLISH
X-WR-CALNAME:comunicacio@castellbisbal.cat
X-WR-TIMEZONE:Europe/Madrid
DESCRIPTION:A les 18.30 hores, a la Plaça de l'Església.

URI:https://www.castellbisbal.cat/actualitat/agenda/22838-ballada-de-sardanes.html
CLASS:PUBLIC
END:VEVENT
END:VCALENDAR
