BEGIN:VCALENDAR
VERSION:2.0
CALSCALE:GREGORIAN
PRODID:-//Diputació de Barcelona//DibaCMS//EN
BEGIN:VEVENT
UID:22846
DTSTAMP:20260424T145032
DTSTART:20240416T170000
DTEND:20240416T170000
SUMMARY:Xerrada: Comunicació respectuosa i autoestima
LOCATION:C. Major, 109 08755 Castellbisbal
METHOD:PUBLISH
X-WR-CALNAME:comunicacio@castellbisbal.cat
X-WR-TIMEZONE:Europe/Madrid
DESCRIPTION:De 17.00 a 18.30 hores, a l'Institut Escola Les Vinyes.

URI:https://www.castellbisbal.cat/actualitat/agenda/xerrada-comunicacio-respectuosa-i-autoestima.html
CLASS:PUBLIC
END:VEVENT
END:VCALENDAR
