BEGIN:VCALENDAR
VERSION:2.0
CALSCALE:GREGORIAN
PRODID:-//Diputació de Barcelona//DibaCMS//EN
BEGIN:VEVENT
UID:22859
DTSTAMP:20260423T162756
DTSTART:20241018T000000
DTEND:20241022T000000
SUMMARY:Formació: Carnet de Plataforma Elevadora
LOCATION:
METHOD:PUBLISH
X-WR-CALNAME:comunicacio@castellbisbal.cat
X-WR-TIMEZONE:Europe/Madrid
DESCRIPTION:Del 18 al 22 d'octubre, a l'Aula Multimèdia d'Els Costals.

URI:https://www.castellbisbal.cat/actualitat/agenda/formacio-carnet-de-plataforma-elevadora.html
CLASS:PUBLIC
END:VEVENT
END:VCALENDAR
