BEGIN:VCALENDAR
VERSION:2.0
CALSCALE:GREGORIAN
PRODID:-//Diputació de Barcelona//DibaCMS//EN
BEGIN:VEVENT
UID:22861
DTSTAMP:20260423T033348
DTSTART:20240926T000000
DTEND:20240927T000000
SUMMARY:Formació: Recerca de feina amb el mòbil
LOCATION:
METHOD:PUBLISH
X-WR-CALNAME:comunicacio@castellbisbal.cat
X-WR-TIMEZONE:Europe/Madrid
DESCRIPTION:El 26 i 27 de setembre, a l'Aula Multimèdia d'Els Costals.

URI:https://www.castellbisbal.cat/actualitat/agenda/formacio-recerca-de-feina-amb-el-mobil.html
CLASS:PUBLIC
END:VEVENT
END:VCALENDAR
