BEGIN:VCALENDAR
VERSION:2.0
CALSCALE:GREGORIAN
PRODID:-//Diputació de Barcelona//DibaCMS//EN
BEGIN:VEVENT
UID:22865
DTSTAMP:20260424T052925
DTSTART:20240412T000000
DTEND:20240412T000000
SUMMARY:Visita d'autor: Maria Carme Roca
LOCATION:C. Agricultura, s/n 08755 Castellbisbal
METHOD:PUBLISH
X-WR-CALNAME:comunicacio@castellbisbal.cat
X-WR-TIMEZONE:Europe/Madrid
DESCRIPTION:A les 16.00 hores, a la Sala polivalent de la Biblioteca Josep Mateu i Miró.

URI:https://www.castellbisbal.cat/actualitat/agenda/biblioteca/visita-dautor-maria-carme-roca.html
CLASS:PUBLIC
END:VEVENT
END:VCALENDAR
