BEGIN:VCALENDAR
VERSION:2.0
CALSCALE:GREGORIAN
PRODID:-//Diputació de Barcelona//DibaCMS//EN
BEGIN:VEVENT
UID:22866
DTSTAMP:20260424T095745
DTSTART:20240416T000000
DTEND:20240416T000000
SUMMARY:Presentació de llibre: Aquell Castellbisbal
LOCATION:Av. de Pau Casals, 16 08755 Castellbisbal
METHOD:PUBLISH
X-WR-CALNAME:comunicacio@castellbisbal.cat
X-WR-TIMEZONE:Europe/Madrid
DESCRIPTION:A les 19.00 hores, a l'auditori d'Els Costals.

URI:https://www.castellbisbal.cat/actualitat/agenda/biblioteca/presentacio-de-llibre-aquell-castellbisbal.html
CLASS:PUBLIC
END:VEVENT
END:VCALENDAR
