BEGIN:VCALENDAR
VERSION:2.0
CALSCALE:GREGORIAN
PRODID:-//Diputació de Barcelona//DibaCMS//EN
BEGIN:VEVENT
UID:22868
DTSTAMP:20260423T222238
DTSTART:20240423T000000
DTEND:20240430T000000
SUMMARY:Fira de revistes
LOCATION:Av. de Pau Casals, 16 08755 Castellbisbal
METHOD:PUBLISH
X-WR-CALNAME:comunicacio@castellbisbal.cat
X-WR-TIMEZONE:Europe/Madrid
DESCRIPTION:Del 23 al 30 d'abril, al vestíbul de la Biblioteca, i el 23 al Pati de l'Esbarjo.

URI:https://www.castellbisbal.cat/actualitat/agenda/biblioteca/22868-fira-de-revistes.html
CLASS:PUBLIC
END:VEVENT
END:VCALENDAR
