BEGIN:VCALENDAR
VERSION:2.0
CALSCALE:GREGORIAN
PRODID:-//Diputació de Barcelona//DibaCMS//EN
BEGIN:VEVENT
UID:22869
DTSTAMP:20260424T053822
DTSTART:20240423T000000
DTEND:20240430T000000
SUMMARY:Mostra de novetats
LOCATION:Av. de Pau Casals, 16 08755 Castellbisbal
METHOD:PUBLISH
X-WR-CALNAME:comunicacio@castellbisbal.cat
X-WR-TIMEZONE:Europe/Madrid
DESCRIPTION:Del 23 al 30 d'abril al vestíbul de la Biblioteca, i el dia de Sant Jordi al Pati de l'Esbarjo.

URI:https://www.castellbisbal.cat/actualitat/agenda/mostra-de-novetats.html
CLASS:PUBLIC
END:VEVENT
END:VCALENDAR
