BEGIN:VCALENDAR
VERSION:2.0
CALSCALE:GREGORIAN
PRODID:-//Diputació de Barcelona//DibaCMS//EN
BEGIN:VEVENT
UID:22875
DTSTAMP:20260424T031140
DTSTART:20240423T110000
DTEND:20240423T110000
SUMMARY:Hora del conte: Contes de dracs i no tant dracs
LOCATION:Av. de Pau Casals, 16 08755 Castellbisbal
METHOD:PUBLISH
X-WR-CALNAME:comunicacio@castellbisbal.cat
X-WR-TIMEZONE:Europe/Madrid
DESCRIPTION:A les 11.00 hores, sala d'exposicions d'Els Costals.

URI:https://www.castellbisbal.cat/actualitat/agenda/biblioteca/hora-del-conte-contes-de-dracs-i-no-tant-dracs.html
CLASS:PUBLIC
END:VEVENT
END:VCALENDAR
