BEGIN:VCALENDAR
VERSION:2.0
CALSCALE:GREGORIAN
PRODID:-//Diputació de Barcelona//DibaCMS//EN
BEGIN:VEVENT
UID:22876
DTSTAMP:20260423T222555
DTSTART:20240412T163000
DTEND:20240412T163000
SUMMARY:Tastet de Festa Major
LOCATION:C. de Sant Mateu, 20 08755 Castellbisbal
METHOD:PUBLISH
X-WR-CALNAME:comunicacio@castellbisbal.cat
X-WR-TIMEZONE:Europe/Madrid
DESCRIPTION:A les 16.30 hores, a l'escola Benviure

URI:https://www.castellbisbal.cat/actualitat/agenda/22876-tastet-de-festa-major.html
CLASS:PUBLIC
END:VEVENT
END:VCALENDAR
