BEGIN:VCALENDAR
VERSION:2.0
CALSCALE:GREGORIAN
PRODID:-//Diputació de Barcelona//DibaCMS//EN
BEGIN:VEVENT
UID:22893
DTSTAMP:20260423T032211
DTSTART:20240506T100000
DTEND:20240531T133000
SUMMARY:Exposició fotogràfica: Grans aus i Patagonia
LOCATION:Carrer de Sant Joan, 2 08755 Castellbisbal
METHOD:PUBLISH
X-WR-CALNAME:comunicacio@castellbisbal.cat
X-WR-TIMEZONE:Europe/Madrid
DESCRIPTION:De dilluns a divendres, al Casal de la Gent Gran.

URI:https://www.castellbisbal.cat/actualitat/agenda/exposicio-fotografica-grans-aus-i-patagonia.html
CLASS:PUBLIC
END:VEVENT
END:VCALENDAR
