BEGIN:VCALENDAR
VERSION:2.0
CALSCALE:GREGORIAN
PRODID:-//Diputació de Barcelona//DibaCMS//EN
BEGIN:VEVENT
UID:22895
DTSTAMP:20260423T112649
DTSTART:20240417T203000
DTEND:20240417T203000
SUMMARY:Lliurament de premis Concurs d'Aparadorisme de Castellbisbal (CAC)
LOCATION:Av. de Pau Casals, 16 08755 Castellbisbal
METHOD:PUBLISH
X-WR-CALNAME:comunicacio@castellbisbal.cat
X-WR-TIMEZONE:Europe/Madrid
DESCRIPTION:A les 20.30 hores, a l'auditori d'Els Costals

URI:https://www.castellbisbal.cat/actualitat/agenda/lliurament-de-premis-concurs-daparadorisme-de-castellbisbal-cac.html
CLASS:PUBLIC
END:VEVENT
END:VCALENDAR
