BEGIN:VCALENDAR
VERSION:2.0
CALSCALE:GREGORIAN
PRODID:-//Diputació de Barcelona//DibaCMS//EN
BEGIN:VEVENT
UID:22896
DTSTAMP:20260424T065311
DTSTART:20240423T170000
DTEND:20240423T170000
SUMMARY:Mostra de conjunts instrumentals joves i adults
LOCATION:08755 Castellbisbal
METHOD:PUBLISH
X-WR-CALNAME:comunicacio@castellbisbal.cat
X-WR-TIMEZONE:Europe/Madrid
DESCRIPTION:De 17.00 a 20.00 hores, a la Plaça de l'Església.

URI:https://www.castellbisbal.cat/actualitat/agenda/mostra-de-conjunts-instrumentals-joves-i-adults.html
CLASS:PUBLIC
END:VEVENT
END:VCALENDAR
