BEGIN:VCALENDAR
VERSION:2.0
CALSCALE:GREGORIAN
PRODID:-//Diputació de Barcelona//DibaCMS//EN
BEGIN:VEVENT
UID:22897
DTSTAMP:20260423T130538
DTSTART:20240423T170000
DTEND:20240423T170000
SUMMARY:Exhibició de balls urbans
LOCATION:
METHOD:PUBLISH
X-WR-CALNAME:comunicacio@castellbisbal.cat
X-WR-TIMEZONE:Europe/Madrid
DESCRIPTION:A les 17.00 hores, al carrer Major.

URI:https://www.castellbisbal.cat/actualitat/agenda/exhibicio-de-balls-urbans.html
CLASS:PUBLIC
END:VEVENT
END:VCALENDAR
