BEGIN:VCALENDAR
VERSION:2.0
CALSCALE:GREGORIAN
PRODID:-//Diputació de Barcelona//DibaCMS//EN
BEGIN:VEVENT
UID:22898
DTSTAMP:20260423T081345
DTSTART:20240423T180000
DTEND:20240423T180000
SUMMARY:Exhibició de Hip-Hop
LOCATION:
METHOD:PUBLISH
X-WR-CALNAME:comunicacio@castellbisbal.cat
X-WR-TIMEZONE:Europe/Madrid
DESCRIPTION:A les 18.00 hores, al carrer Major.

URI:https://www.castellbisbal.cat/actualitat/agenda/22898-exhibicio-de-hip-hop.html
CLASS:PUBLIC
END:VEVENT
END:VCALENDAR
