BEGIN:VCALENDAR
VERSION:2.0
CALSCALE:GREGORIAN
PRODID:-//Diputació de Barcelona//DibaCMS//EN
BEGIN:VEVENT
UID:22900
DTSTAMP:20260423T112847
DTSTART:20240413T120000
DTEND:20240413T120000
SUMMARY:Storytime: Farmyard
LOCATION:Av. Sant Vicenç, 16 Local 4 08755 Castellbisbal
METHOD:PUBLISH
X-WR-CALNAME:comunicacio@castellbisbal.cat
X-WR-TIMEZONE:Europe/Madrid
DESCRIPTION:A les 12.00 hores, a la Biblioteca Josep Mateu i Miró.

URI:https://www.castellbisbal.cat/actualitat/agenda/biblioteca/22900-storytime-farmyard.html
CLASS:PUBLIC
END:VEVENT
END:VCALENDAR
