BEGIN:VCALENDAR
VERSION:2.0
CALSCALE:GREGORIAN
PRODID:-//Diputació de Barcelona//DibaCMS//EN
BEGIN:VEVENT
UID:22924
DTSTAMP:20260423T161106
DTSTART:20240411T100000
DTEND:20240411T100000
SUMMARY:Dia Mundial de l'activitat física: Caminada Saludable
LOCATION:Av. Pau Casals, 12 08755 Castellbisbal
METHOD:PUBLISH
X-WR-CALNAME:comunicacio@castellbisbal.cat
X-WR-TIMEZONE:Europe/Madrid
DESCRIPTION:De 10.00 a 11.30 hores, a l'entrada del CAP Doctor Joan Planas.

URI:https://www.castellbisbal.cat/actualitat/agenda/dia-mundial-de-lactivitat-fisica-caminada-saludable.html
CLASS:PUBLIC
END:VEVENT
END:VCALENDAR
