BEGIN:VCALENDAR
VERSION:2.0
CALSCALE:GREGORIAN
PRODID:-//Diputació de Barcelona//DibaCMS//EN
BEGIN:VEVENT
UID:22938
DTSTAMP:20260423T151518
DTSTART:20240611T000000
DTEND:20240611T000000
SUMMARY:Claus i novetats de la facturació electrònica
LOCATION:Avinguda de Pau Casals, 9 08755 Castellbisbal
METHOD:PUBLISH
X-WR-CALNAME:comunicacio@castellbisbal.cat
X-WR-TIMEZONE:Europe/Madrid
DESCRIPTION:De 20.00 a 21.30 hores, a la Sala de Plens de l'Ajuntament.

URI:https://www.castellbisbal.cat/actualitat/agenda/22938-claus-i-novetats-de-la-facturacio-electronica.html
CLASS:PUBLIC
END:VEVENT
END:VCALENDAR
