BEGIN:VCALENDAR
VERSION:2.0
CALSCALE:GREGORIAN
PRODID:-//Diputació de Barcelona//DibaCMS//EN
BEGIN:VEVENT
UID:22957
DTSTAMP:20260423T123851
DTSTART:20240428T093000
DTEND:20240428T093000
SUMMARY:Neteja del bosc Costablanca
LOCATION:
METHOD:PUBLISH
X-WR-CALNAME:comunicacio@castellbisbal.cat
X-WR-TIMEZONE:Europe/Madrid
DESCRIPTION:A les 9.30 hores, al bosc Costablanca

URI:https://www.castellbisbal.cat/actualitat/agenda/neteja-del-bosc-costablanca.html
CLASS:PUBLIC
END:VEVENT
END:VCALENDAR
