BEGIN:VCALENDAR
VERSION:2.0
CALSCALE:GREGORIAN
PRODID:-//Diputació de Barcelona//DibaCMS//EN
BEGIN:VEVENT
UID:22960
DTSTAMP:20260423T131129
DTSTART:20240610T190000
DTEND:20240610T190000
SUMMARY:Presentació del nou llibre de l'Arxiu Municipal
LOCATION:Avinguda Pau Casals, 16 08755 Castellbisbal
METHOD:PUBLISH
X-WR-CALNAME:comunicacio@castellbisbal.cat
X-WR-TIMEZONE:Europe/Madrid
DESCRIPTION:A les 19.00 hores, a l'Espai Montserrat Roig d'Els Costals

URI:https://www.castellbisbal.cat/actualitat/agenda/22960-presentacio-del-nou-llibre-de-larxiu-municipal.html
CLASS:PUBLIC
END:VEVENT
END:VCALENDAR
