BEGIN:VCALENDAR
VERSION:2.0
CALSCALE:GREGORIAN
PRODID:-//Diputació de Barcelona//DibaCMS//EN
BEGIN:VEVENT
UID:22961
DTSTAMP:20260423T043544
DTSTART:20240423T100000
DTEND:20240423T100000
SUMMARY:Espai firal de Sant Jordi
LOCATION:
METHOD:PUBLISH
X-WR-CALNAME:comunicacio@castellbisbal.cat
X-WR-TIMEZONE:Europe/Madrid
DESCRIPTION:De 10.00 a 20.00 hores, als carrers del nucli antic.

URI:https://www.castellbisbal.cat/actualitat/agenda/22961-espai-firal-de-sant-jordi.html
CLASS:PUBLIC
END:VEVENT
END:VCALENDAR
