BEGIN:VCALENDAR
VERSION:2.0
CALSCALE:GREGORIAN
PRODID:-//Diputació de Barcelona//DibaCMS//EN
BEGIN:VEVENT
UID:22964
DTSTAMP:20260423T093921
DTSTART:20240505T100000
DTEND:20240505T100000
SUMMARY:Cuidem el nostre bosc
LOCATION:Parc de l'Ermita 08755 Castellbisbal
METHOD:PUBLISH
X-WR-CALNAME:comunicacio@castellbisbal.cat
X-WR-TIMEZONE:Europe/Madrid
DESCRIPTION:A les 10.00 hores, sortida des de l'aparcament del parc de l'Ermita

URI:https://www.castellbisbal.cat/actualitat/agenda/cuidem-el-nostre-bosc.html
CLASS:PUBLIC
END:VEVENT
END:VCALENDAR
