BEGIN:VCALENDAR
VERSION:2.0
CALSCALE:GREGORIAN
PRODID:-//Diputació de Barcelona//DibaCMS//EN
BEGIN:VEVENT
UID:22965
DTSTAMP:20260424T194016
DTSTART:20240430T190000
DTEND:20240430T190000
SUMMARY:Segona trobada de la comissió jove
LOCATION:Carrer Francesc Macià, 64 08755 Castellbisbal
METHOD:PUBLISH
X-WR-CALNAME:comunicacio@castellbisbal.cat
X-WR-TIMEZONE:Europe/Madrid
DESCRIPTION:ACTIVITAT POSPOSADA PEL 7 DE MAIG.

A les 19.00 h, al Racó Jove

URI:https://www.castellbisbal.cat/actualitat/agenda/22965-segona-trobada-de-la-comissio-jove.html
CLASS:PUBLIC
END:VEVENT
END:VCALENDAR
