BEGIN:VCALENDAR
VERSION:2.0
CALSCALE:GREGORIAN
PRODID:-//Diputació de Barcelona//DibaCMS//EN
BEGIN:VEVENT
UID:22974
DTSTAMP:20260423T051458
DTSTART:20240508T180000
DTEND:20240508T180000
SUMMARY:Racó Jove: Curtmetratge Bullying
LOCATION:Carrer Francesc Macià, 64 08755 Castellbisbal
METHOD:PUBLISH
X-WR-CALNAME:comunicacio@castellbisbal.cat
X-WR-TIMEZONE:Europe/Madrid
DESCRIPTION:De 18.00 a 19.00 hores, al Racó Jove.

URI:https://www.castellbisbal.cat/actualitat/agenda/raco-jove-curtmetratge-bullying.html
CLASS:PUBLIC
END:VEVENT
END:VCALENDAR
