BEGIN:VCALENDAR
VERSION:2.0
CALSCALE:GREGORIAN
PRODID:-//Diputació de Barcelona//DibaCMS//EN
BEGIN:VEVENT
UID:22983
DTSTAMP:20260423T014147
DTSTART:20240503T183000
DTEND:20240503T183000
SUMMARY:Inauguració exposició fotogràfica: Grans aus i Patagonia
LOCATION:Carrer de Sant Joan, 2 08755 Castellbisbal
METHOD:PUBLISH
X-WR-CALNAME:comunicacio@castellbisbal.cat
X-WR-TIMEZONE:Europe/Madrid
DESCRIPTION:A les 18.30 hores, al Casal de la Gent Gran.

URI:https://www.castellbisbal.cat/actualitat/agenda/inauguracio-exposicio-fotografica-grans-aus-i-patagonia.html
CLASS:PUBLIC
END:VEVENT
END:VCALENDAR
