BEGIN:VCALENDAR
VERSION:2.0
CALSCALE:GREGORIAN
PRODID:-//Diputació de Barcelona//DibaCMS//EN
BEGIN:VEVENT
UID:22988
DTSTAMP:20260424T065709
DTSTART:20240512T180000
DTEND:20240512T180000
SUMMARY:L'Y - ànsia per volar
LOCATION:Av. de Pau Casals, 20 08755 Castellbisbal
METHOD:PUBLISH
X-WR-CALNAME:comunicacio@castellbisbal.cat
X-WR-TIMEZONE:Europe/Madrid
DESCRIPTION:A les 18.00 hores, a la pista exterior coberta de l'escola Mare de Déu de Montserrat.

URI:https://www.castellbisbal.cat/actualitat/agenda/ly-ansia-per-volar.html
CLASS:PUBLIC
END:VEVENT
END:VCALENDAR
