BEGIN:VCALENDAR
VERSION:2.0
CALSCALE:GREGORIAN
PRODID:-//Diputació de Barcelona//DibaCMS//EN
BEGIN:VEVENT
UID:22992
DTSTAMP:20260423T045531
DTSTART:20240507T190000
DTEND:20240507T190000
SUMMARY:Segona trobada de la comissió jove
LOCATION:Carrer Francesc Macià, 64 08755 Castellbisbal
METHOD:PUBLISH
X-WR-CALNAME:comunicacio@castellbisbal.cat
X-WR-TIMEZONE:Europe/Madrid
DESCRIPTION:A les 19.00 h, al Racó Jove

URI:https://www.castellbisbal.cat/actualitat/agenda/22992-segona-trobada-de-la-comissio-jove.html
CLASS:PUBLIC
END:VEVENT
END:VCALENDAR
