BEGIN:VCALENDAR
VERSION:2.0
CALSCALE:GREGORIAN
PRODID:-//Diputació de Barcelona//DibaCMS//EN
BEGIN:VEVENT
UID:22994
DTSTAMP:20260423T110301
DTSTART:20240518T190000
DTEND:20240518T190000
SUMMARY:Monòleg Solidari
LOCATION:Avinguda Pau Casals, 16 08755 Castellbisbal
METHOD:PUBLISH
X-WR-CALNAME:comunicacio@castellbisbal.cat
X-WR-TIMEZONE:Europe/Madrid
DESCRIPTION:A les 19.00 hores, a l'Espai Montserrat Roig.

URI:https://www.castellbisbal.cat/actualitat/agenda/monoleg-solidari.html
CLASS:PUBLIC
END:VEVENT
END:VCALENDAR
