BEGIN:VCALENDAR
VERSION:2.0
CALSCALE:GREGORIAN
PRODID:-//Diputació de Barcelona//DibaCMS//EN
BEGIN:VEVENT
UID:22997
DTSTAMP:20260423T200013
DTSTART:20240619T170000
DTEND:20240619T170000
SUMMARY:Reunió informativa casal d'estiu Diversport
LOCATION:Av. de Pau Casals, 9 08755 Castellbisbal
METHOD:PUBLISH
X-WR-CALNAME:comunicacio@castellbisbal.cat
X-WR-TIMEZONE:Europe/Madrid
DESCRIPTION:A les 17.00 hores, a la sala d'actes de l'Ajuntament.

URI:https://www.castellbisbal.cat/actualitat/agenda/reunio-informativa-casal-destiu-diversport.html
CLASS:PUBLIC
END:VEVENT
END:VCALENDAR
