BEGIN:VCALENDAR
VERSION:2.0
CALSCALE:GREGORIAN
PRODID:-//Diputació de Barcelona//DibaCMS//EN
BEGIN:VEVENT
UID:22998
DTSTAMP:20260423T132128
DTSTART:20240517T163000
DTEND:20240517T163000
SUMMARY:DIA INTERNACIONAL DELS MUSEUS: Tallers familiars
LOCATION:Carrer Pi i Margall, 13 08755 Castellbisbal
METHOD:PUBLISH
X-WR-CALNAME:comunicacio@castellbisbal.cat
X-WR-TIMEZONE:Europe/Madrid
DESCRIPTION:De 16.30 a 20.00 hores, davant del Museu de la Pagesia.

URI:https://www.castellbisbal.cat/actualitat/agenda/dia-internacional-dels-museus-tallers-familiars.html
CLASS:PUBLIC
END:VEVENT
END:VCALENDAR
