BEGIN:VCALENDAR
VERSION:2.0
CALSCALE:GREGORIAN
PRODID:-//Diputació de Barcelona//DibaCMS//EN
BEGIN:VEVENT
UID:23000
DTSTAMP:20260423T200916
DTSTART:20240517T183000
DTEND:20240517T183000
SUMMARY:DIA INTERNACIONAL DELS MUSEUS: Visita teatralitzada d'en Galderic
LOCATION:Carrer Pi i Margall, 13 08755 Castellbisbal
METHOD:PUBLISH
X-WR-CALNAME:comunicacio@castellbisbal.cat
X-WR-TIMEZONE:Europe/Madrid
DESCRIPTION:De 18.30 a 19.30 hores, al Museu de la Pagesia.

URI:https://www.castellbisbal.cat/actualitat/agenda/dia-internacional-dels-museus-visita-teatralitzada-den-galderic.html
CLASS:PUBLIC
END:VEVENT
END:VCALENDAR
