BEGIN:VCALENDAR
VERSION:2.0
CALSCALE:GREGORIAN
PRODID:-//Diputació de Barcelona//DibaCMS//EN
BEGIN:VEVENT
UID:23005
DTSTAMP:20260423T204338
DTSTART:20240518T100000
DTEND:20240518T100000
SUMMARY:Donació de sang i plasma
LOCATION:Carrer de Sant Joan, 2 08755 Castellbisbal
METHOD:PUBLISH
X-WR-CALNAME:comunicacio@castellbisbal.cat
X-WR-TIMEZONE:Europe/Madrid
DESCRIPTION:De 10.00 a 14.00 hores, i de 17.00 a 21.00 hores, al Casal de la Gent Gran.

URI:https://www.castellbisbal.cat/actualitat/agenda/donacio-de-sang-i-plasma.html
CLASS:PUBLIC
END:VEVENT
END:VCALENDAR
