BEGIN:VCALENDAR
VERSION:2.0
CALSCALE:GREGORIAN
PRODID:-//Diputació de Barcelona//DibaCMS//EN
BEGIN:VEVENT
UID:23008
DTSTAMP:20260423T031801
DTSTART:20240517T211500
DTEND:20240517T211500
SUMMARY:XXVI Festa Major de Santa Rita: Inauguració i sopar
LOCATION:
METHOD:PUBLISH
X-WR-CALNAME:comunicacio@castellbisbal.cat
X-WR-TIMEZONE:Europe/Madrid
DESCRIPTION:A les 21.15 hores, al carrer de Santa Rita.

URI:https://www.castellbisbal.cat/actualitat/agenda/xxvi-festa-major-de-santa-rita-inauguracio-i-sopar.html
CLASS:PUBLIC
END:VEVENT
END:VCALENDAR
