BEGIN:VCALENDAR
VERSION:2.0
CALSCALE:GREGORIAN
PRODID:-//Diputació de Barcelona//DibaCMS//EN
BEGIN:VEVENT
UID:23009
DTSTAMP:20260419T161926
DTSTART:20240518T140000
DTEND:20240518T140000
SUMMARY:XXVI Festa Major de Santa Rita: Dinar de veïns i concurs de postres
LOCATION:
METHOD:PUBLISH
X-WR-CALNAME:comunicacio@castellbisbal.cat
X-WR-TIMEZONE:Europe/Madrid
DESCRIPTION:A les 14.00 hores, al carrer de Santa Rita.

URI:https://www.castellbisbal.cat/actualitat/agenda/xxvi-festa-major-de-santa-rita-dinar-de-veins-i-concurs-de-postres.html
CLASS:PUBLIC
END:VEVENT
END:VCALENDAR
