BEGIN:VCALENDAR
VERSION:2.0
CALSCALE:GREGORIAN
PRODID:-//Diputació de Barcelona//DibaCMS//EN
BEGIN:VEVENT
UID:23010
DTSTAMP:20260423T082647
DTSTART:20240518T170000
DTEND:20240518T170000
SUMMARY:XXVI Festa Major de Santa Rita: Jocs infantils
LOCATION:
METHOD:PUBLISH
X-WR-CALNAME:comunicacio@castellbisbal.cat
X-WR-TIMEZONE:Europe/Madrid
DESCRIPTION:A les 17.00 hores, al carrer de Santa Rita.

URI:https://www.castellbisbal.cat/actualitat/agenda/xxvi-festa-major-de-santa-rita-jocs-infantils.html
CLASS:PUBLIC
END:VEVENT
END:VCALENDAR
